BEGIN:VCALENDAR
VERSION:2.0
PRODID:-//Squarespace Inc/Squarespace 6//v6//EN
BEGIN:VEVENT
UID:56ea534c4d088e20b857a967@squarespace.com
DTSTAMP:20160317T064928Z
DTSTART:20160410T230000Z
DTEND:20160411T000000Z
SUMMARY:Term 2 Begins
END:VEVENT
END:VCALENDAR
