BEGIN:VCALENDAR
VERSION:2.0
PRODID:-//Squarespace Inc/Squarespace 6//v6//EN
BEGIN:VEVENT
UID:56ea52223c44d8f5bc193d08@squarespace.com
DTSTAMP:20160317T064505Z
DTSTART:20160324T130000Z
DTEND:20160324T140000Z
SUMMARY:Good Friday
END:VEVENT
END:VCALENDAR
