BEGIN:VCALENDAR
VERSION:2.0
PRODID:-//Squarespace Inc/Squarespace 6//v6//EN
BEGIN:VEVENT
UID:56eb7181356fb0848d044087@squarespace.com
DTSTAMP:20160318T031015Z
DTSTART:20160507T220000Z
DTEND:20160507T230000Z
SUMMARY:MOTHERS DAY
END:VEVENT
END:VCALENDAR
