BEGIN:VCALENDAR
VERSION:2.0
PRODID:-//Squarespace Inc/Squarespace 6//v6//EN
BEGIN:VEVENT
UID:56eb71ce20c647e7ec516b0d@squarespace.com
DTSTAMP:20160318T031135Z
DTSTART:20160504T223000Z
DTEND:20160504T233000Z
SUMMARY:MUMS DAY BLUE & YELLOW GROUP
END:VEVENT
END:VCALENDAR
