BEGIN:VCALENDAR
VERSION:2.0
PRODID:-//Squarespace Inc/Squarespace 6//v6//EN
BEGIN:VEVENT
UID:56eb71f38a65e2c2a035afab@squarespace.com
DTSTAMP:20160318T031203Z
DTSTART:20160505T223000Z
DTEND:20160505T233000Z
SUMMARY:MUMS DAY RED GROUP
END:VEVENT
END:VCALENDAR
