BEGIN:VCALENDAR
VERSION:2.0
PRODID:-//Squarespace Inc/Squarespace 6//v6//EN
BEGIN:VEVENT
UID:56eb70e79f7266948bedf72b@squarespace.com
DTSTAMP:20160318T030835Z
DTSTART:20160420T223000Z
DTEND:20160420T233000Z
SUMMARY:PHOTO DAY BLUE AND YELLOW GROUP
END:VEVENT
END:VCALENDAR
