BEGIN:VCALENDAR
VERSION:2.0
PRODID:-//Squarespace Inc/Squarespace 6//v6//EN
BEGIN:VEVENT
UID:56eb7307cf80a1a469d34547@squarespace.com
DTSTAMP:20160318T031647Z
DTSTART:20160612T223000Z
DTEND:20160612T233000Z
SUMMARY:QUEENS BIRTHDAY PUBLIC HOLIDAY
END:VEVENT
END:VCALENDAR
