BEGIN:VCALENDAR
VERSION:2.0
PRODID:-//Squarespace Inc/Squarespace 6//v6//EN
BEGIN:VEVENT
UID:56eb79c7b654f93379588579@squarespace.com
DTSTAMP:20160318T034538Z
DTSTART:20160507T050000Z
DTEND:20160508T060000Z
SUMMARY:YARD CLEAN McBeth Family
END:VEVENT
END:VCALENDAR
