BEGIN:VCALENDAR
VERSION:2.0
PRODID:-//Squarespace Inc/Squarespace 6//v6//EN
BEGIN:VEVENT
UID:56eb79a9b654f933795884bb@squarespace.com
DTSTAMP:20160318T034459Z
DTSTART:20160430T050000Z
DTEND:20160501T060000Z
SUMMARY:YARD CLEAN- MURPHY FAMILY
END:VEVENT
END:VCALENDAR
