BEGIN:VCALENDAR
VERSION:2.0
PRODID:-//Squarespace Inc/Squarespace 6//v6//EN
BEGIN:VEVENT
UID:56eb79672fe1315b8c770a7d@squarespace.com
DTSTAMP:20160318T034430Z
DTSTART:20160423T050000Z
DTEND:20160424T060000Z
SUMMARY:YARD CLEAN- SUDWEEKS FAMILY
END:VEVENT
END:VCALENDAR
