BEGIN:VCALENDAR
VERSION:2.0
PRODID:-//Squarespace Inc/Squarespace 6//v6//EN
BEGIN:VEVENT
UID:5760a9b627d4bdcb6655d789@squarespace.com
DTSTAMP:20160624T115224Z
DTSTART:20160619T220000Z
DTEND:20160624T070000Z
SUMMARY:naidoc week
END:VEVENT
END:VCALENDAR
