BEGIN:VCALENDAR
VERSION:2.0
PRODID:-//Squarespace Inc/Squarespace 6//v6//EN
BEGIN:VEVENT
UID:5760a94d746fb95af26e1883@squarespace.com
DTSTAMP:20160615T010407Z
DTSTART:20160624T070000Z
DTEND:20160624T070000Z
SUMMARY:School Holidays Begin
END:VEVENT
END:VCALENDAR
