BEGIN:VCALENDAR
VERSION:2.0
PRODID:-//Squarespace Inc/Squarespace 6//v6//EN
BEGIN:VEVENT
UID:576c97d0be659429ccf2efe8@squarespace.com
DTSTAMP:20160719T013132Z
DTSTART:20160729T083000Z
DTEND:20160729T133000Z
SUMMARY:Gala night
END:VEVENT
END:VCALENDAR
