BEGIN:VCALENDAR
VERSION:2.0
PRODID:-//Squarespace Inc/Squarespace 6//v6//EN
BEGIN:VEVENT
UID:58dcec7c893fc0b962fc844f@squarespace.com
DTSTAMP:20170330T113920Z
DTSTART:20170424T230000Z
DTEND:20170425T000000Z
SUMMARY:ANZAC Day
END:VEVENT
END:VCALENDAR
