BEGIN:VCALENDAR
VERSION:2.0
PRODID:-//Squarespace Inc/Squarespace 6//v6//EN
BEGIN:VEVENT
UID:58dd833af5e231507d6012e7@squarespace.com
DTSTAMP:20170330T222655Z
DTSTART:20170512T080000Z
DTEND:20170512T130000Z
SUMMARY:Mothers Day Movie Night @ Lido Hawthorn
END:VEVENT
END:VCALENDAR
