BEGIN:VCALENDAR
VERSION:2.0
PRODID:-//Squarespace Inc/Squarespace 6//v6//EN
BEGIN:VEVENT
UID:58dced0a03596edd8bf6e72c@squarespace.com
DTSTAMP:20170330T114709Z
DTSTART:20170515T233000Z
DTEND:20170516T000000Z
SUMMARY:Kinder Dreaming (Yellow)
END:VEVENT
END:VCALENDAR
