BEGIN:VCALENDAR
VERSION:2.0
PRODID:-//Squarespace Inc/Squarespace 6//v6//EN
BEGIN:VEVENT
UID:58dcf168197aeafa017d89a4@squarespace.com
DTSTAMP:20170330T115335Z
DTSTART:20170529T230000Z
DTEND:20170530T070000Z
SUMMARY:Photos
END:VEVENT
END:VCALENDAR
