BEGIN:VCALENDAR
VERSION:2.0
PRODID:-//Squarespace Inc/Squarespace 6//v6//EN
BEGIN:VEVENT
UID:58dcf220d2b8574851a828ca@squarespace.com
DTSTAMP:20170330T221258Z
DTSTART:20170531T230000Z
DTEND:20170601T070000Z
SUMMARY:Photos
END:VEVENT
END:VCALENDAR
