BEGIN:VCALENDAR
VERSION:2.0
PRODID:-//Squarespace Inc/Squarespace 6//v6//EN
BEGIN:VEVENT
UID:590c234fe6f2e13e84036ce0@squarespace.com
DTSTAMP:20170505T070227Z
DTSTART:20170614T093000Z
DTEND:20170614T103000Z
SUMMARY:Committee Meeting - June
END:VEVENT
END:VCALENDAR
